BEGIN:VCALENDAR
VERSION:2.0
PRODID:-//Mijn Oosterparkwijk - ECPv6.15.17.1//NONSGML v1.0//EN
CALSCALE:GREGORIAN
METHOD:PUBLISH
X-ORIGINAL-URL:https://mijnoosterparkwijk.nl
X-WR-CALDESC:Evenementen voor Mijn Oosterparkwijk
REFRESH-INTERVAL;VALUE=DURATION:PT1H
X-Robots-Tag:noindex
X-PUBLISHED-TTL:PT1H
BEGIN:VTIMEZONE
TZID:Europe/Amsterdam
BEGIN:DAYLIGHT
TZOFFSETFROM:+0100
TZOFFSETTO:+0200
TZNAME:CEST
DTSTART:20300331T010000
END:DAYLIGHT
BEGIN:STANDARD
TZOFFSETFROM:+0200
TZOFFSETTO:+0100
TZNAME:CET
DTSTART:20301027T010000
END:STANDARD
BEGIN:DAYLIGHT
TZOFFSETFROM:+0100
TZOFFSETTO:+0200
TZNAME:CEST
DTSTART:20310330T010000
END:DAYLIGHT
BEGIN:STANDARD
TZOFFSETFROM:+0200
TZOFFSETTO:+0100
TZNAME:CET
DTSTART:20311026T010000
END:STANDARD
BEGIN:DAYLIGHT
TZOFFSETFROM:+0100
TZOFFSETTO:+0200
TZNAME:CEST
DTSTART:20320328T010000
END:DAYLIGHT
BEGIN:STANDARD
TZOFFSETFROM:+0200
TZOFFSETTO:+0100
TZNAME:CET
DTSTART:20321031T010000
END:STANDARD
END:VTIMEZONE
BEGIN:VEVENT
DTSTART;TZID=Europe/Amsterdam:20310410T093000
DTEND;TZID=Europe/Amsterdam:20310410T113000
DTSTAMP:20260425T223121
CREATED:20251001T123104Z
LAST-MODIFIED:20260415T083642Z
UID:10100309-1933579800-1933587000@mijnoosterparkwijk.nl
SUMMARY:Taalhuis - WIJ Spreken
DESCRIPTION:Heb je moeite om de Nederlandse taal te spreken of wil je graag Nederlands leren spreken? Kom dan elke maandag en donderdag langs bij het Leger des Heils van 09:45 tot 11:30! Elke vrijdag kan je langskomen bij Heesterpoort 1 van 10:00 tot 11:30. \nWil je  meer informatie of je aanmelden voor WIJ Spreken? Kom dan langs op dinsdag bij het spreekuur van het Taalhuis tussen 10.00 en 12.00 uur op Heesterpoort 1.  \nTijdens de vakanties zijn we gesloten.
URL:https://mijnoosterparkwijk.nl/agenda/wij-spreken-3/2031-04-10/
LOCATION:Leger des Heils\, Dirk Huizingastraat 17\, Groningen\, Groningen\, 9713 GL\, Nederland
CATEGORIES:educatie,hulp en ondersteuning,informatief
ATTACH;FMTTYPE=image/png:https://mijnoosterparkwijk.nl/app/uploads/2023/10/Scherm­afbeelding-2023-10-05-om-12.30.36.png
GEO:53.2218824;6.5813507
X-APPLE-STRUCTURED-LOCATION;VALUE=URI;X-ADDRESS=Leger des Heils Dirk Huizingastraat 17 Groningen Groningen 9713 GL Nederland;X-APPLE-RADIUS=500;X-TITLE=Dirk Huizingastraat 17:geo:6.5813507,53.2218824
END:VEVENT
BEGIN:VEVENT
DTSTART;TZID=Europe/Amsterdam:20310411T093000
DTEND;TZID=Europe/Amsterdam:20310411T113000
DTSTAMP:20260425T223122
CREATED:20251001T123104Z
LAST-MODIFIED:20260415T083642Z
UID:10100310-1933666200-1933673400@mijnoosterparkwijk.nl
SUMMARY:Taalhuis - WIJ Spreken
DESCRIPTION:Heb je moeite om de Nederlandse taal te spreken of wil je graag Nederlands leren spreken? Kom dan elke maandag en donderdag langs bij het Leger des Heils van 09:45 tot 11:30! Elke vrijdag kan je langskomen bij Heesterpoort 1 van 10:00 tot 11:30. \nWil je  meer informatie of je aanmelden voor WIJ Spreken? Kom dan langs op dinsdag bij het spreekuur van het Taalhuis tussen 10.00 en 12.00 uur op Heesterpoort 1.  \nTijdens de vakanties zijn we gesloten.
URL:https://mijnoosterparkwijk.nl/agenda/wij-spreken-3/2031-04-11/
LOCATION:Leger des Heils\, Dirk Huizingastraat 17\, Groningen\, Groningen\, 9713 GL\, Nederland
CATEGORIES:educatie,hulp en ondersteuning,informatief
ATTACH;FMTTYPE=image/png:https://mijnoosterparkwijk.nl/app/uploads/2023/10/Scherm­afbeelding-2023-10-05-om-12.30.36.png
GEO:53.2218824;6.5813507
X-APPLE-STRUCTURED-LOCATION;VALUE=URI;X-ADDRESS=Leger des Heils Dirk Huizingastraat 17 Groningen Groningen 9713 GL Nederland;X-APPLE-RADIUS=500;X-TITLE=Dirk Huizingastraat 17:geo:6.5813507,53.2218824
END:VEVENT
BEGIN:VEVENT
DTSTART;TZID=Europe/Amsterdam:20310414T093000
DTEND;TZID=Europe/Amsterdam:20310414T113000
DTSTAMP:20260425T223122
CREATED:20251001T123104Z
LAST-MODIFIED:20260415T083642Z
UID:10100311-1933925400-1933932600@mijnoosterparkwijk.nl
SUMMARY:Taalhuis - WIJ Spreken
DESCRIPTION:Heb je moeite om de Nederlandse taal te spreken of wil je graag Nederlands leren spreken? Kom dan elke maandag en donderdag langs bij het Leger des Heils van 09:45 tot 11:30! Elke vrijdag kan je langskomen bij Heesterpoort 1 van 10:00 tot 11:30. \nWil je  meer informatie of je aanmelden voor WIJ Spreken? Kom dan langs op dinsdag bij het spreekuur van het Taalhuis tussen 10.00 en 12.00 uur op Heesterpoort 1.  \nTijdens de vakanties zijn we gesloten.
URL:https://mijnoosterparkwijk.nl/agenda/wij-spreken-3/2031-04-14/
LOCATION:Leger des Heils\, Dirk Huizingastraat 17\, Groningen\, Groningen\, 9713 GL\, Nederland
CATEGORIES:educatie,hulp en ondersteuning,informatief
ATTACH;FMTTYPE=image/png:https://mijnoosterparkwijk.nl/app/uploads/2023/10/Scherm­afbeelding-2023-10-05-om-12.30.36.png
GEO:53.2218824;6.5813507
X-APPLE-STRUCTURED-LOCATION;VALUE=URI;X-ADDRESS=Leger des Heils Dirk Huizingastraat 17 Groningen Groningen 9713 GL Nederland;X-APPLE-RADIUS=500;X-TITLE=Dirk Huizingastraat 17:geo:6.5813507,53.2218824
END:VEVENT
BEGIN:VEVENT
DTSTART;TZID=Europe/Amsterdam:20310415T093000
DTEND;TZID=Europe/Amsterdam:20310415T113000
DTSTAMP:20260425T223122
CREATED:20251001T123104Z
LAST-MODIFIED:20260415T083642Z
UID:10100312-1934011800-1934019000@mijnoosterparkwijk.nl
SUMMARY:Taalhuis - WIJ Spreken
DESCRIPTION:Heb je moeite om de Nederlandse taal te spreken of wil je graag Nederlands leren spreken? Kom dan elke maandag en donderdag langs bij het Leger des Heils van 09:45 tot 11:30! Elke vrijdag kan je langskomen bij Heesterpoort 1 van 10:00 tot 11:30. \nWil je  meer informatie of je aanmelden voor WIJ Spreken? Kom dan langs op dinsdag bij het spreekuur van het Taalhuis tussen 10.00 en 12.00 uur op Heesterpoort 1.  \nTijdens de vakanties zijn we gesloten.
URL:https://mijnoosterparkwijk.nl/agenda/wij-spreken-3/2031-04-15/
LOCATION:Leger des Heils\, Dirk Huizingastraat 17\, Groningen\, Groningen\, 9713 GL\, Nederland
CATEGORIES:educatie,hulp en ondersteuning,informatief
ATTACH;FMTTYPE=image/png:https://mijnoosterparkwijk.nl/app/uploads/2023/10/Scherm­afbeelding-2023-10-05-om-12.30.36.png
GEO:53.2218824;6.5813507
X-APPLE-STRUCTURED-LOCATION;VALUE=URI;X-ADDRESS=Leger des Heils Dirk Huizingastraat 17 Groningen Groningen 9713 GL Nederland;X-APPLE-RADIUS=500;X-TITLE=Dirk Huizingastraat 17:geo:6.5813507,53.2218824
END:VEVENT
END:VCALENDAR