BEGIN:VCALENDAR
VERSION:2.0
PRODID:-//Mijn Oosterparkwijk - ECPv6.15.17.1//NONSGML v1.0//EN
CALSCALE:GREGORIAN
METHOD:PUBLISH
X-ORIGINAL-URL:https://mijnoosterparkwijk.nl
X-WR-CALDESC:Evenementen voor Mijn Oosterparkwijk
REFRESH-INTERVAL;VALUE=DURATION:PT1H
X-Robots-Tag:noindex
X-PUBLISHED-TTL:PT1H
BEGIN:VTIMEZONE
TZID:Europe/Amsterdam
BEGIN:DAYLIGHT
TZOFFSETFROM:+0100
TZOFFSETTO:+0200
TZNAME:CEST
DTSTART:20240331T010000
END:DAYLIGHT
BEGIN:STANDARD
TZOFFSETFROM:+0200
TZOFFSETTO:+0100
TZNAME:CET
DTSTART:20241027T010000
END:STANDARD
BEGIN:DAYLIGHT
TZOFFSETFROM:+0100
TZOFFSETTO:+0200
TZNAME:CEST
DTSTART:20250330T010000
END:DAYLIGHT
BEGIN:STANDARD
TZOFFSETFROM:+0200
TZOFFSETTO:+0100
TZNAME:CET
DTSTART:20251026T010000
END:STANDARD
BEGIN:DAYLIGHT
TZOFFSETFROM:+0100
TZOFFSETTO:+0200
TZNAME:CEST
DTSTART:20260329T010000
END:DAYLIGHT
BEGIN:STANDARD
TZOFFSETFROM:+0200
TZOFFSETTO:+0100
TZNAME:CET
DTSTART:20261025T010000
END:STANDARD
END:VTIMEZONE
BEGIN:VEVENT
DTSTART;TZID=Europe/Amsterdam:20250513T093000
DTEND;TZID=Europe/Amsterdam:20250513T130000
DTSTAMP:20260423T175516
CREATED:20230523T133527Z
LAST-MODIFIED:20240409T130435Z
UID:10035378-1747128600-1747141200@mijnoosterparkwijk.nl
SUMMARY:WIJS spreekuur
DESCRIPTION:Op dinsdagen van 10.00 – 13.00 uur helpen de studenten van WIJS je graag. Zo kunnen ze o.a. ondersteunen bij het aanvragen van toeslagen\, je financiële situatie inzichtelijker maken (inkomsten – uitgaven – schulden)\, het invullen van de belastingaangifte of het opstellen van een bezwaarschrift. Daarnaast heeft WIJS haar eigen ondernemerssteunpunt waar ondernemers (op afspraak) terecht kunnen voor het maken van een levensvatbaar ondernemingsplan en hulp bij hun administratie/boekhouding. Op werkdagen van maandag tot en met donderdag (10.00 – 16.00 uur) is WIJS ook telefonisch bereikbaar op 06 – 15 09 09 87.
URL:https://mijnoosterparkwijk.nl/agenda/wijs-spreekuur/2025-05-13/
LOCATION:bij Van Houten\, Oliemuldersweg 47\, Groningen\, 9713 VA\, Nederland
CATEGORIES:hulp en ondersteuning
ATTACH;FMTTYPE=image/png:https://mijnoosterparkwijk.nl/app/uploads/2023/05/Belastingaangifte-web.png
ORGANIZER;CN="bij Van Houten":MAILTO:welkom@bijvanhouten.nl
GEO:53.224729253.22488991499527;6.5889408520027635
X-APPLE-STRUCTURED-LOCATION;VALUE=URI;X-ADDRESS=bij Van Houten Oliemuldersweg 47 Groningen 9713 VA Nederland;X-APPLE-RADIUS=500;X-TITLE=Oliemuldersweg 47:geo:6.5889408520027635,53.224729253.22488991499527
END:VEVENT
BEGIN:VEVENT
DTSTART;TZID=Europe/Amsterdam:20250509T173000
DTEND;TZID=Europe/Amsterdam:20250509T183000
DTSTAMP:20260423T175516
CREATED:20240911T081508Z
LAST-MODIFIED:20240911T081513Z
UID:10074701-1746811800-1746815400@mijnoosterparkwijk.nl
SUMMARY:Vrijdagmaaltijd...bij Van Houten
DESCRIPTION:Op vrijdag kun je in ‘bij Van Houten’ genieten van een lekkere maaltijd voor en door wijkbewoners. Deze wordt gemaakt door vrijwilligers\, dus het kan soms voorkomen dat de maaltijd niet doorgaat als de vrijwilligers uitvallen. Op dagen dat ‘bij Van Houten’ gesloten is (bijvoorbeeld in vakanties)\, is er geen maaltijd.Hou altijd onze social media in de gaten (Facebook en Instagram). Daar delen we de informatie over de maaltijden. Je bent welkom om 17.30 uur. Wees op tijd! Op = op.
URL:https://mijnoosterparkwijk.nl/agenda/vrijdagmaaltijd-bij-van-houten-2/2025-05-09/
LOCATION:bij Van Houten\, Oliemuldersweg 47\, Groningen\, 9713 VA\, Nederland
CATEGORIES:vrije tijd en ontspanning
ATTACH;FMTTYPE=image/png:https://mijnoosterparkwijk.nl/app/uploads/2024/09/Tot-ik-het-koken-ontdekte-was-ik-nooit-echt-geinteresseerd-in-iets.-1280-x-720-px.png
ORGANIZER;CN="bij Van Houten":MAILTO:welkom@bijvanhouten.nl
GEO:53.224729253.22488991499527;6.5889408520027635
X-APPLE-STRUCTURED-LOCATION;VALUE=URI;X-ADDRESS=bij Van Houten Oliemuldersweg 47 Groningen 9713 VA Nederland;X-APPLE-RADIUS=500;X-TITLE=Oliemuldersweg 47:geo:6.5889408520027635,53.224729253.22488991499527
END:VEVENT
BEGIN:VEVENT
DTSTART;TZID=Europe/Amsterdam:20250509T120000
DTEND;TZID=Europe/Amsterdam:20250509T140000
DTSTAMP:20260423T175516
CREATED:20250226T144830Z
LAST-MODIFIED:20250226T144838Z
UID:10039154-1746792000-1746799200@mijnoosterparkwijk.nl
SUMMARY:Kom! Soep!
DESCRIPTION:Elke week\, van maandag tot en met vrijdag\, kun je van 12.00-14.00 uur een heerlijk kom zelfgemaakte soep komen eten…bij Van Houten. 
URL:https://mijnoosterparkwijk.nl/agenda/kom-soep-3/2025-05-09/
LOCATION:bij Van Houten\, Oliemuldersweg 47\, Groningen\, 9713 VA\, Nederland
CATEGORIES:gezondheid,vrije tijd en ontspanning
ATTACH;FMTTYPE=image/jpeg:https://mijnoosterparkwijk.nl/app/uploads/2023/09/DSC1924.jpg
ORGANIZER;CN="bij Van Houten":MAILTO:welkom@bijvanhouten.nl
GEO:53.224729253.22488991499527;6.5889408520027635
X-APPLE-STRUCTURED-LOCATION;VALUE=URI;X-ADDRESS=bij Van Houten Oliemuldersweg 47 Groningen 9713 VA Nederland;X-APPLE-RADIUS=500;X-TITLE=Oliemuldersweg 47:geo:6.5889408520027635,53.224729253.22488991499527
END:VEVENT
BEGIN:VEVENT
DTSTART;TZID=Europe/Amsterdam:20250509T103000
DTEND;TZID=Europe/Amsterdam:20250509T113000
DTSTAMP:20260423T175516
CREATED:20240710T103145Z
LAST-MODIFIED:20240710T103147Z
UID:10071539-1746786600-1746790200@mijnoosterparkwijk.nl
SUMMARY:EASY YIN yoga
DESCRIPTION:Heb je een blessure of ben je net hersteld? Dan is easy yoga perfect om rustig de beoefening van yoga weer op te pakken. Ook uitermate geschikt voor 50+. In de les is extra aandacht voor aanpassingen en ligt het tempo lager dan in een dynamische yogales. De yin yogahoudingen worden minder lang aangehouden en tussendoor zijn er oefeningen om zowel het dynamische als statische in jouw lichaam te verbeteren vanuit coördinatie.
URL:https://mijnoosterparkwijk.nl/agenda/easy-yin-yoga/2025-05-09/
LOCATION:bij Van Houten\, Oliemuldersweg 47\, Groningen\, 9713 VA\, Nederland
CATEGORIES:sport
ORGANIZER;CN="bij Van Houten":MAILTO:welkom@bijvanhouten.nl
GEO:53.224729253.22488991499527;6.5889408520027635
X-APPLE-STRUCTURED-LOCATION;VALUE=URI;X-ADDRESS=bij Van Houten Oliemuldersweg 47 Groningen 9713 VA Nederland;X-APPLE-RADIUS=500;X-TITLE=Oliemuldersweg 47:geo:6.5889408520027635,53.224729253.22488991499527
END:VEVENT
BEGIN:VEVENT
DTSTART;TZID=Europe/Amsterdam:20250508T120000
DTEND;TZID=Europe/Amsterdam:20250508T140000
DTSTAMP:20260423T175516
CREATED:20250226T144830Z
LAST-MODIFIED:20250226T144838Z
UID:10039153-1746705600-1746712800@mijnoosterparkwijk.nl
SUMMARY:Kom! Soep!
DESCRIPTION:Elke week\, van maandag tot en met vrijdag\, kun je van 12.00-14.00 uur een heerlijk kom zelfgemaakte soep komen eten…bij Van Houten. 
URL:https://mijnoosterparkwijk.nl/agenda/kom-soep-3/2025-05-08/
LOCATION:bij Van Houten\, Oliemuldersweg 47\, Groningen\, 9713 VA\, Nederland
CATEGORIES:gezondheid,vrije tijd en ontspanning
ATTACH;FMTTYPE=image/jpeg:https://mijnoosterparkwijk.nl/app/uploads/2023/09/DSC1924.jpg
ORGANIZER;CN="bij Van Houten":MAILTO:welkom@bijvanhouten.nl
GEO:53.224729253.22488991499527;6.5889408520027635
X-APPLE-STRUCTURED-LOCATION;VALUE=URI;X-ADDRESS=bij Van Houten Oliemuldersweg 47 Groningen 9713 VA Nederland;X-APPLE-RADIUS=500;X-TITLE=Oliemuldersweg 47:geo:6.5889408520027635,53.224729253.22488991499527
END:VEVENT
BEGIN:VEVENT
DTSTART;TZID=Europe/Amsterdam:20250508T100000
DTEND;TZID=Europe/Amsterdam:20250508T120000
DTSTAMP:20260423T175517
CREATED:20230825T124430Z
LAST-MODIFIED:20240603T074505Z
UID:10037516-1746698400-1746705600@mijnoosterparkwijk.nl
SUMMARY:Koffieochtend...bij Van Houten
DESCRIPTION:Vanaf dinsdag 5 september organiseren we twee keer per week een gezellige koffieochtend voor iedereen. Je bent welkom op dinsdag en donderdag van 10.00-12.00 uur.\nKom je lekker met andere wijkbewoners bijkletsen\, nieuwe mensen ontmoeten\, de krant lezen of…?\n\nGewone koffie en thee is gratis op de koffieochtend!
URL:https://mijnoosterparkwijk.nl/agenda/koffieochtend-bij-van-houten-2/2025-05-08/
LOCATION:bij Van Houten\, Oliemuldersweg 47\, Groningen\, 9713 VA\, Nederland
CATEGORIES:vrije tijd en ontspanning
ATTACH;FMTTYPE=image/jpeg:https://mijnoosterparkwijk.nl/app/uploads/2023/08/DSC9529-1.jpg
ORGANIZER;CN="bij Van Houten":MAILTO:welkom@bijvanhouten.nl
GEO:53.224729253.22488991499527;6.5889408520027635
X-APPLE-STRUCTURED-LOCATION;VALUE=URI;X-ADDRESS=bij Van Houten Oliemuldersweg 47 Groningen 9713 VA Nederland;X-APPLE-RADIUS=500;X-TITLE=Oliemuldersweg 47:geo:6.5889408520027635,53.224729253.22488991499527
END:VEVENT
BEGIN:VEVENT
DTSTART;TZID=Europe/Amsterdam:20250507T193000
DTEND;TZID=Europe/Amsterdam:20250507T213000
DTSTAMP:20260423T175517
CREATED:20240213T135953Z
LAST-MODIFIED:20240409T114928Z
UID:10051179-1746646200-1746653400@mijnoosterparkwijk.nl
SUMMARY:Spelletjesavond
DESCRIPTION:Elke eerste woensdag van de maand organiseren wijkbewoners een gezellige en laagdrempelige Spelletjesavond in bij Van Houten. Lijkt het je leuk om wijkbewoners te ontmoeten en met hen spelletjes te doen? Kom dan langs. Het is vrije inloop.\nDe avond is voor volwassenen.
URL:https://mijnoosterparkwijk.nl/agenda/spelletjesavond-2/2025-05-07/
LOCATION:bij Van Houten\, Oliemuldersweg 47\, Groningen\, 9713 VA\, Nederland
CATEGORIES:vrije tijd en ontspanning
ATTACH;FMTTYPE=image/jpeg:https://mijnoosterparkwijk.nl/app/uploads/2024/02/GridArt_20240206_212808782.jpg
ORGANIZER;CN="bij Van Houten":MAILTO:welkom@bijvanhouten.nl
GEO:53.224729253.22488991499527;6.5889408520027635
X-APPLE-STRUCTURED-LOCATION;VALUE=URI;X-ADDRESS=bij Van Houten Oliemuldersweg 47 Groningen 9713 VA Nederland;X-APPLE-RADIUS=500;X-TITLE=Oliemuldersweg 47:geo:6.5889408520027635,53.224729253.22488991499527
END:VEVENT
BEGIN:VEVENT
DTSTART;TZID=Europe/Amsterdam:20250507T120000
DTEND;TZID=Europe/Amsterdam:20250507T140000
DTSTAMP:20260423T175517
CREATED:20250226T144830Z
LAST-MODIFIED:20250226T144838Z
UID:10039152-1746619200-1746626400@mijnoosterparkwijk.nl
SUMMARY:Kom! Soep!
DESCRIPTION:Elke week\, van maandag tot en met vrijdag\, kun je van 12.00-14.00 uur een heerlijk kom zelfgemaakte soep komen eten…bij Van Houten. 
URL:https://mijnoosterparkwijk.nl/agenda/kom-soep-3/2025-05-07/
LOCATION:bij Van Houten\, Oliemuldersweg 47\, Groningen\, 9713 VA\, Nederland
CATEGORIES:gezondheid,vrije tijd en ontspanning
ATTACH;FMTTYPE=image/jpeg:https://mijnoosterparkwijk.nl/app/uploads/2023/09/DSC1924.jpg
ORGANIZER;CN="bij Van Houten":MAILTO:welkom@bijvanhouten.nl
GEO:53.224729253.22488991499527;6.5889408520027635
X-APPLE-STRUCTURED-LOCATION;VALUE=URI;X-ADDRESS=bij Van Houten Oliemuldersweg 47 Groningen 9713 VA Nederland;X-APPLE-RADIUS=500;X-TITLE=Oliemuldersweg 47:geo:6.5889408520027635,53.224729253.22488991499527
END:VEVENT
BEGIN:VEVENT
DTSTART;TZID=Europe/Amsterdam:20250506T120000
DTEND;TZID=Europe/Amsterdam:20250506T140000
DTSTAMP:20260423T175517
CREATED:20250226T144830Z
LAST-MODIFIED:20250226T144838Z
UID:10039151-1746532800-1746540000@mijnoosterparkwijk.nl
SUMMARY:Kom! Soep!
DESCRIPTION:Elke week\, van maandag tot en met vrijdag\, kun je van 12.00-14.00 uur een heerlijk kom zelfgemaakte soep komen eten…bij Van Houten. 
URL:https://mijnoosterparkwijk.nl/agenda/kom-soep-3/2025-05-06/
LOCATION:bij Van Houten\, Oliemuldersweg 47\, Groningen\, 9713 VA\, Nederland
CATEGORIES:gezondheid,vrije tijd en ontspanning
ATTACH;FMTTYPE=image/jpeg:https://mijnoosterparkwijk.nl/app/uploads/2023/09/DSC1924.jpg
ORGANIZER;CN="bij Van Houten":MAILTO:welkom@bijvanhouten.nl
GEO:53.224729253.22488991499527;6.5889408520027635
X-APPLE-STRUCTURED-LOCATION;VALUE=URI;X-ADDRESS=bij Van Houten Oliemuldersweg 47 Groningen 9713 VA Nederland;X-APPLE-RADIUS=500;X-TITLE=Oliemuldersweg 47:geo:6.5889408520027635,53.224729253.22488991499527
END:VEVENT
BEGIN:VEVENT
DTSTART;TZID=Europe/Amsterdam:20250506T100000
DTEND;TZID=Europe/Amsterdam:20250506T120000
DTSTAMP:20260423T175517
CREATED:20230825T123802Z
LAST-MODIFIED:20240603T074626Z
UID:10037256-1746525600-1746532800@mijnoosterparkwijk.nl
SUMMARY:Koffieochtend...bij Van Houten
DESCRIPTION:Vanaf dinsdag 5 september organiseren we twee keer per week een gezellige koffieochtend voor iedereen. Je bent welkom op dinsdag en donderdag van 10.00-12.00 uur.\nKom je lekker met andere wijkbewoners bijkletsen\, nieuwe mensen ontmoeten\, de krant lezen of…?\n\nGewone koffie en thee is gratis op de koffieochtend!
URL:https://mijnoosterparkwijk.nl/agenda/koffieochtend-bij-van-houten/2025-05-06/
LOCATION:bij Van Houten\, Oliemuldersweg 47\, Groningen\, 9713 VA\, Nederland
CATEGORIES:vrije tijd en ontspanning
ATTACH;FMTTYPE=image/jpeg:https://mijnoosterparkwijk.nl/app/uploads/2023/08/DSC9529-1.jpg
ORGANIZER;CN="bij Van Houten":MAILTO:welkom@bijvanhouten.nl
GEO:53.224729253.22488991499527;6.5889408520027635
X-APPLE-STRUCTURED-LOCATION;VALUE=URI;X-ADDRESS=bij Van Houten Oliemuldersweg 47 Groningen 9713 VA Nederland;X-APPLE-RADIUS=500;X-TITLE=Oliemuldersweg 47:geo:6.5889408520027635,53.224729253.22488991499527
END:VEVENT
BEGIN:VEVENT
DTSTART;TZID=Europe/Amsterdam:20250506T093000
DTEND;TZID=Europe/Amsterdam:20250506T130000
DTSTAMP:20260423T175517
CREATED:20230523T133527Z
LAST-MODIFIED:20240409T130435Z
UID:10035377-1746523800-1746536400@mijnoosterparkwijk.nl
SUMMARY:WIJS spreekuur
DESCRIPTION:Op dinsdagen van 10.00 – 13.00 uur helpen de studenten van WIJS je graag. Zo kunnen ze o.a. ondersteunen bij het aanvragen van toeslagen\, je financiële situatie inzichtelijker maken (inkomsten – uitgaven – schulden)\, het invullen van de belastingaangifte of het opstellen van een bezwaarschrift. Daarnaast heeft WIJS haar eigen ondernemerssteunpunt waar ondernemers (op afspraak) terecht kunnen voor het maken van een levensvatbaar ondernemingsplan en hulp bij hun administratie/boekhouding. Op werkdagen van maandag tot en met donderdag (10.00 – 16.00 uur) is WIJS ook telefonisch bereikbaar op 06 – 15 09 09 87.
URL:https://mijnoosterparkwijk.nl/agenda/wijs-spreekuur/2025-05-06/
LOCATION:bij Van Houten\, Oliemuldersweg 47\, Groningen\, 9713 VA\, Nederland
CATEGORIES:hulp en ondersteuning
ATTACH;FMTTYPE=image/png:https://mijnoosterparkwijk.nl/app/uploads/2023/05/Belastingaangifte-web.png
ORGANIZER;CN="bij Van Houten":MAILTO:welkom@bijvanhouten.nl
GEO:53.224729253.22488991499527;6.5889408520027635
X-APPLE-STRUCTURED-LOCATION;VALUE=URI;X-ADDRESS=bij Van Houten Oliemuldersweg 47 Groningen 9713 VA Nederland;X-APPLE-RADIUS=500;X-TITLE=Oliemuldersweg 47:geo:6.5889408520027635,53.224729253.22488991499527
END:VEVENT
BEGIN:VEVENT
DTSTART;TZID=Europe/Amsterdam:20250502T173000
DTEND;TZID=Europe/Amsterdam:20250502T183000
DTSTAMP:20260423T175517
CREATED:20240911T081508Z
LAST-MODIFIED:20240911T081513Z
UID:10074700-1746207000-1746210600@mijnoosterparkwijk.nl
SUMMARY:Vrijdagmaaltijd...bij Van Houten
DESCRIPTION:Op vrijdag kun je in ‘bij Van Houten’ genieten van een lekkere maaltijd voor en door wijkbewoners. Deze wordt gemaakt door vrijwilligers\, dus het kan soms voorkomen dat de maaltijd niet doorgaat als de vrijwilligers uitvallen. Op dagen dat ‘bij Van Houten’ gesloten is (bijvoorbeeld in vakanties)\, is er geen maaltijd.Hou altijd onze social media in de gaten (Facebook en Instagram). Daar delen we de informatie over de maaltijden. Je bent welkom om 17.30 uur. Wees op tijd! Op = op.
URL:https://mijnoosterparkwijk.nl/agenda/vrijdagmaaltijd-bij-van-houten-2/2025-05-02/
LOCATION:bij Van Houten\, Oliemuldersweg 47\, Groningen\, 9713 VA\, Nederland
CATEGORIES:vrije tijd en ontspanning
ATTACH;FMTTYPE=image/png:https://mijnoosterparkwijk.nl/app/uploads/2024/09/Tot-ik-het-koken-ontdekte-was-ik-nooit-echt-geinteresseerd-in-iets.-1280-x-720-px.png
ORGANIZER;CN="bij Van Houten":MAILTO:welkom@bijvanhouten.nl
GEO:53.224729253.22488991499527;6.5889408520027635
X-APPLE-STRUCTURED-LOCATION;VALUE=URI;X-ADDRESS=bij Van Houten Oliemuldersweg 47 Groningen 9713 VA Nederland;X-APPLE-RADIUS=500;X-TITLE=Oliemuldersweg 47:geo:6.5889408520027635,53.224729253.22488991499527
END:VEVENT
END:VCALENDAR